BEGIN:VCALENDAR
VERSION:2.0
PRODID:icalendar-ruby
CALSCALE:GREGORIAN
BEGIN:VEVENT
DTSTAMP:20210119T220013Z
UID:495395f0-bd89-4376-af3b-be54078c42df
DTSTART;VALUE=DATE:20210123
DESCRIPTION:Property ID# 669547\, Locatoin: Onsite\, Time: 1:00PM
SUMMARY:Auction for 24 The Quarterdeck
END:VEVENT
END:VCALENDAR
