BEGIN:VCALENDAR
VERSION:2.0
PRODID:icalendar-ruby
CALSCALE:GREGORIAN
BEGIN:VEVENT
DTSTAMP:20210119T220349Z
UID:2dbb624f-c38f-4da4-9423-6bc9f6c641db
DTSTART;VALUE=DATE:20210123
DESCRIPTION:Property ID# 669540\, Locatoin: Onsite\, Time: 1:00PM
SUMMARY:Auction for 8/293 Weyba Road
END:VEVENT
END:VCALENDAR
