BEGIN:VCALENDAR
VERSION:2.0
PRODID:icalendar-ruby
CALSCALE:GREGORIAN
BEGIN:VEVENT
DTSTAMP:20210119T220346Z
UID:0cbeb1bc-8617-458a-8d06-e6686099a338
DTSTART;VALUE=DATE:20201107
DESCRIPTION:Property ID# 647988\, Time: 12:00PM
SUMMARY:Auction for 
END:VEVENT
END:VCALENDAR
