BEGIN:VCALENDAR
VERSION:2.0
PRODID:icalendar-ruby
CALSCALE:GREGORIAN
BEGIN:VEVENT
DTSTAMP:20210119T220347Z
UID:c449759e-83de-4cf7-95be-c6e02d7376c7
DTSTART;VALUE=DATE:20200829
DESCRIPTION:Property ID# 646346\, Locatoin: On site\, Time: 12:00PM
SUMMARY:Auction for 
END:VEVENT
END:VCALENDAR
