BEGIN:VCALENDAR
VERSION:2.0
PRODID:icalendar-ruby
CALSCALE:GREGORIAN
BEGIN:VEVENT
DTSTAMP:20210119T220440Z
UID:c7dc495b-3845-4282-9831-8ac6860b7099
DTSTART;VALUE=DATE:20191214
DESCRIPTION:Property ID# 604425\, Locatoin: On-site\, Time: 3:00AM
SUMMARY:Auction for 
END:VEVENT
END:VCALENDAR
